BEGIN:VCALENDAR
VERSION:2.0
PRODID:-//https://calenda-formation.labocleo.org
X-WR-CALNAME:Calenda
X-WR-TIMEZONE:Europe/Paris
CALSCALE:GREGORIAN
X-WR-CALDESC:Le calendrier des lettres et sciences humaines et sociales
METHOD:PUBLISH
BEGIN:VEVENT
DTSTART;VALUE=DATE:20150608
DTEND;VALUE=DATE:20150609
UID:323452-20150608@calenda.revues.org
SUMMARY:Modalités et contenus d’apprentissage dans le cadre du doctorat
URL:https://calenda-formation.labocleo.org/323452
DESCRIPTION:EXPERICE (Centre interuniversitaire de recherche expérience\, ressources culturelles\, éducation\, Paris 13 - Paris 8) en partenariat avec le CRF (Centre de recherche sur la Formation) du CNAM\, propose un contrat doctoral de 3 ans pour le financement d’… Weitere Informationen https://calenda-formation.labocleo.org/323452
LOCATION:
END:VEVENT
END:VCALENDAR
