BEGIN:VCALENDAR
VERSION:2.0
PRODID:-//https://calenda-formation.labocleo.org
X-WR-CALNAME:Calenda
X-WR-TIMEZONE:Europe/Paris
CALSCALE:GREGORIAN
X-WR-CALDESC:Le calendrier des lettres et sciences humaines et sociales
METHOD:PUBLISH
BEGIN:VEVENT
DTSTART;VALUE=DATE:20150601
DTEND;VALUE=DATE:20150602
UID:323705-20150601@calenda.revues.org
SUMMARY:L’amour en sciences sociales\, les sciences sociales en amour
URL:https://calenda-formation.labocleo.org/323705
DESCRIPTION:Peu à peu\, l’amour est devenu un sujet digne d’intérêt des sciences sociales. Nous voudrions ici le voir s’épanouir. La fixation de l’anthropologie sur les questions de généalogie\, de parenté et d’alliance a contribué à l’élaboration d’un important c… @plus_info https://calenda-formation.labocleo.org/323705
LOCATION:
END:VEVENT
END:VCALENDAR
