BEGIN:VCALENDAR
VERSION:2.0
PRODID:-//https://calenda-formation.labocleo.org
X-WR-CALNAME:Calenda
X-WR-TIMEZONE:Europe/Paris
CALSCALE:GREGORIAN
X-WR-CALDESC:The calendar for arts, humanities and social sciences
METHOD:PUBLISH
BEGIN:VEVENT
DTSTART;VALUE=DATE:20151104
DTEND;VALUE=DATE:20151105
UID:323774-20151104@calenda.revues.org
SUMMARY:Introduction to coding literary texts with XML-TEI
URL:https://calenda-formation.labocleo.org/323774
DESCRIPTION:The « Bibliothèques Virtuelles Humanistes » (BVH) in Tours have been running this course since 2005 with the number of attendees ever increasing due to the growing possibilities in Digital Humanities. This training course is specifically aimed at pro… @plus_info https://calenda-formation.labocleo.org/323774
LOCATION:Tours
END:VEVENT
BEGIN:VEVENT
DTSTART;VALUE=DATE:20151105
DTEND;VALUE=DATE:20151106
UID:323774-20151105@calenda.revues.org
SUMMARY:Introduction to coding literary texts with XML-TEI
URL:https://calenda-formation.labocleo.org/323774
DESCRIPTION:The « Bibliothèques Virtuelles Humanistes » (BVH) in Tours have been running this course since 2005 with the number of attendees ever increasing due to the growing possibilities in Digital Humanities. This training course is specifically aimed at pro… @plus_info https://calenda-formation.labocleo.org/323774
LOCATION:Tours
END:VEVENT
BEGIN:VEVENT
DTSTART;VALUE=DATE:20151106
DTEND;VALUE=DATE:20151107
UID:323774-20151106@calenda.revues.org
SUMMARY:Introduction to coding literary texts with XML-TEI
URL:https://calenda-formation.labocleo.org/323774
DESCRIPTION:The « Bibliothèques Virtuelles Humanistes » (BVH) in Tours have been running this course since 2005 with the number of attendees ever increasing due to the growing possibilities in Digital Humanities. This training course is specifically aimed at pro… @plus_info https://calenda-formation.labocleo.org/323774
LOCATION:Tours
END:VEVENT
END:VCALENDAR
