BEGIN:VCALENDAR
VERSION:2.0
PRODID:-//https://calenda-formation.labocleo.org
X-WR-CALNAME:Calenda
X-WR-TIMEZONE:Europe/Paris
CALSCALE:GREGORIAN
X-WR-CALDESC:The calendar for arts, humanities and social sciences
METHOD:PUBLISH
BEGIN:VEVENT
DTSTART;VALUE=DATE:20150601
DTEND;VALUE=DATE:20150602
UID:324260-20150601@calenda.revues.org
SUMMARY:Munich for medievalists
URL:https://calenda-formation.labocleo.org/324260
DESCRIPTION:L’Institut historique allemand (IHA) offre aux étudiants et doctorants allemands et français\, en 2015\, une excursion à Munich du 30 août au 3 septembre 2015. … @plus_info https://calenda-formation.labocleo.org/324260
LOCATION:Munich
END:VEVENT
END:VCALENDAR
