BEGIN:VCALENDAR
VERSION:2.0
PRODID:-//https://calenda-formation.labocleo.org
X-WR-CALNAME:Calenda
X-WR-TIMEZONE:Europe/Paris
CALSCALE:GREGORIAN
X-WR-CALDESC:Le calendrier des lettres et sciences humaines et sociales
METHOD:PUBLISH
BEGIN:VEVENT
DTSTART;VALUE=DATE:20150424
DTEND;VALUE=DATE:20150425
UID:324676-20150424@calenda.revues.org
SUMMARY:Journée sur le blogging scientifique
URL:https://calenda-formation.labocleo.org/324676
DESCRIPTION:En collaboration avec l'équipe de la plateforme Hypothèses\, la MESHS organise une journée consacrée à la pratique du blogging scientifique. Dans la matinée\, une série de présentations et une table ronde donnent à voir les divers usages des carnets de… Más informaciones https://calenda-formation.labocleo.org/324676
LOCATION:Lille
END:VEVENT
END:VCALENDAR
