BEGIN:VCALENDAR
VERSION:2.0
PRODID:-//https://calenda-formation.labocleo.org
X-WR-CALNAME:Calenda
X-WR-TIMEZONE:Europe/Paris
CALSCALE:GREGORIAN
X-WR-CALDESC:The calendar for arts, humanities and social sciences
METHOD:PUBLISH
BEGIN:VEVENT
DTSTART;VALUE=DATE:20150630
DTEND;VALUE=DATE:20150701
UID:324766-20150630@calenda.revues.org
SUMMARY:Les poètes et la publicité
URL:https://calenda-formation.labocleo.org/324766
DESCRIPTION:Dans le cadre du projet ANR LittéPub qui associe Paris X-Nanterre et Paris III\, deux journées d’études seront consacrées à la relation entre poésie et publicité\, de la modernité post-baudelairienne à la fin du XXe siècle. S’y retrouveront des cherche… @plus_info https://calenda-formation.labocleo.org/324766
LOCATION:Paris
END:VEVENT
END:VCALENDAR
