BEGIN:VCALENDAR
VERSION:2.0
PRODID:-//https://calenda-formation.labocleo.org
X-WR-CALNAME:Calenda
X-WR-TIMEZONE:Europe/Paris
CALSCALE:GREGORIAN
X-WR-CALDESC:Le calendrier des lettres et sciences humaines et sociales
METHOD:PUBLISH
BEGIN:VEVENT
DTSTART;VALUE=DATE:20150430
DTEND;VALUE=DATE:20150501
UID:324917-20150430@calenda.revues.org
SUMMARY:Histoire de la délégation apostolique du Saint-Siège au Canada (1877-1969)
URL:https://calenda-formation.labocleo.org/324917
DESCRIPTION:L'objectif de ce colloque est d'étudier l'histoire de la délégation apostolique du Saint-Siège au Canada\, de la période qui va de l’envoi du premier délégué apostolique\, en 1877\, à la fondation de la nonciature apostolique en 1969. Tout en considéran… Más informaciones https://calenda-formation.labocleo.org/324917
LOCATION:Roma
END:VEVENT
END:VCALENDAR
