BEGIN:VCALENDAR
VERSION:2.0
PRODID:-//https://calenda-formation.labocleo.org
X-WR-CALNAME:Calenda
X-WR-TIMEZONE:Europe/Paris
CALSCALE:GREGORIAN
X-WR-CALDESC:Le calendrier des lettres et sciences humaines et sociales
METHOD:PUBLISH
BEGIN:VEVENT
DTSTART;VALUE=DATE:20150530
DTEND;VALUE=DATE:20150531
UID:325168-20150530@calenda.revues.org
SUMMARY:Circulations publicitaires de la littérature
URL:https://calenda-formation.labocleo.org/325168
DESCRIPTION:Dessin de Benjamin Rabier dans L’Illustration (1924) : maître Corbeau\, sur un arbre perché\, laisse tomber sa proie. C’est un cataplasme sinapisé\, prêt en quelques minutes\, qui guérit les indispositions et prévient les graves maladies. « Bravo ! fit l… Más informaciones https://calenda-formation.labocleo.org/325168
LOCATION:
END:VEVENT
END:VCALENDAR
