BEGIN:VCALENDAR
VERSION:2.0
PRODID:-//https://calenda-formation.labocleo.org
X-WR-CALNAME:Calenda
X-WR-TIMEZONE:Europe/Paris
CALSCALE:GREGORIAN
X-WR-CALDESC:Le calendrier des lettres et sciences humaines et sociales
METHOD:PUBLISH
BEGIN:VEVENT
DTSTART;VALUE=DATE:20150521
DTEND;VALUE=DATE:20150522
UID:325820-20150521@calenda.revues.org
SUMMARY:Les émeutes de 2005\, 10 ans après
URL:https://calenda-formation.labocleo.org/325820
DESCRIPTION:  À l’occasion de la parution du numéro 70 de la revue Agora débats / jeunesses intitulé « Les émeutes de 2005\, 10 ans après. Rétrospective et perspectives »\, l’Institut national de la jeunesse et de l’éducation populaire (INJEP) organise une confére… Weitere Informationen https://calenda-formation.labocleo.org/325820
LOCATION:Paris
END:VEVENT
END:VCALENDAR
