BEGIN:VCALENDAR
VERSION:2.0
PRODID:-//https://calenda-formation.labocleo.org
X-WR-CALNAME:Calenda
X-WR-TIMEZONE:Europe/Paris
CALSCALE:GREGORIAN
X-WR-CALDESC:O calendário de letras e de ciências sociais e humanas
METHOD:PUBLISH
BEGIN:VEVENT
DTSTART;VALUE=DATE:20150901
DTEND;VALUE=DATE:20150902
UID:326467-20150901@calenda.revues.org
SUMMARY:En quête de territoire(s)
URL:https://calenda-formation.labocleo.org/326467
DESCRIPTION:Dans la poursuite des réflexions à la fois théoriques et pratiques engagées lors de ses deux premiers colloques internationaux en 2011 et 2014\, ce troisième colloque du Collège international des sciences du territoire (CIST)\, qui se tiendra à Grenole… @plus_info https://calenda-formation.labocleo.org/326467
LOCATION:
END:VEVENT
END:VCALENDAR
