BEGIN:VCALENDAR
VERSION:2.0
PRODID:-//https://calenda-formation.labocleo.org
X-WR-CALNAME:Calenda
X-WR-TIMEZONE:Europe/Paris
CALSCALE:GREGORIAN
X-WR-CALDESC:Le calendrier des lettres et sciences humaines et sociales
METHOD:PUBLISH
BEGIN:VEVENT
DTSTART;VALUE=DATE:20150519
DTEND;VALUE=DATE:20150520
UID:327292-20150519@calenda.revues.org
SUMMARY:L’écologie de l'attention
URL:https://calenda-formation.labocleo.org/327292
DESCRIPTION:Nous vivons dans une société de l'information. Cette société nouvelle a profondément transformé nos comportements. Nous sommes en permanence connectés. À chaque instant\, notre attention est requise. Depuis des années\, s'intensifient les rapports entr… Weitere Informationen https://calenda-formation.labocleo.org/327292
LOCATION:Namur
END:VEVENT
BEGIN:VEVENT
DTSTART;VALUE=DATE:20150609
DTEND;VALUE=DATE:20150610
UID:327292-20150609@calenda.revues.org
SUMMARY:L’écologie de l'attention
URL:https://calenda-formation.labocleo.org/327292
DESCRIPTION:Nous vivons dans une société de l'information. Cette société nouvelle a profondément transformé nos comportements. Nous sommes en permanence connectés. À chaque instant\, notre attention est requise. Depuis des années\, s'intensifient les rapports entr… Weitere Informationen https://calenda-formation.labocleo.org/327292
LOCATION:Namur
END:VEVENT
BEGIN:VEVENT
DTSTART;VALUE=DATE:20150929
DTEND;VALUE=DATE:20150930
UID:327292-20150929@calenda.revues.org
SUMMARY:L’écologie de l'attention
URL:https://calenda-formation.labocleo.org/327292
DESCRIPTION:Nous vivons dans une société de l'information. Cette société nouvelle a profondément transformé nos comportements. Nous sommes en permanence connectés. À chaque instant\, notre attention est requise. Depuis des années\, s'intensifient les rapports entr… Weitere Informationen https://calenda-formation.labocleo.org/327292
LOCATION:Namur
END:VEVENT
BEGIN:VEVENT
DTSTART;VALUE=DATE:20151020
DTEND;VALUE=DATE:20151021
UID:327292-20151020@calenda.revues.org
SUMMARY:L’écologie de l'attention
URL:https://calenda-formation.labocleo.org/327292
DESCRIPTION:Nous vivons dans une société de l'information. Cette société nouvelle a profondément transformé nos comportements. Nous sommes en permanence connectés. À chaque instant\, notre attention est requise. Depuis des années\, s'intensifient les rapports entr… Weitere Informationen https://calenda-formation.labocleo.org/327292
LOCATION:Namur
END:VEVENT
END:VCALENDAR
