BEGIN:VCALENDAR
VERSION:2.0
PRODID:-//https://calenda-formation.labocleo.org
X-WR-CALNAME:Calenda
X-WR-TIMEZONE:Europe/Paris
CALSCALE:GREGORIAN
X-WR-CALDESC:Le calendrier des lettres et sciences humaines et sociales
METHOD:PUBLISH
BEGIN:VEVENT
DTSTART;VALUE=DATE:20150715
DTEND;VALUE=DATE:20150716
UID:327328-20150715@calenda.revues.org
SUMMARY:Troisième rencontre des jeunes chercheur.e.s en études africaines
URL:https://calenda-formation.labocleo.org/327328
DESCRIPTION:Dans la continuité d'une démarche initiée en 2013\, la troisième rencontre des jeunes chercheur.e.s en études africaines (JCEA) aura lieu à Paris les 14\, 15 et 16 janvier 2016. Comme lors des éditions précédentes\, il s'agira de permettre aux doctorant… Más informaciones https://calenda-formation.labocleo.org/327328
LOCATION:París
END:VEVENT
END:VCALENDAR
