BEGIN:VCALENDAR
VERSION:2.0
PRODID:-//https://calenda-formation.labocleo.org
X-WR-CALNAME:Calenda
X-WR-TIMEZONE:Europe/Paris
CALSCALE:GREGORIAN
X-WR-CALDESC:O calendário de letras e de ciências sociais e humanas
METHOD:PUBLISH
BEGIN:VEVENT
DTSTART;VALUE=DATE:20150531
DTEND;VALUE=DATE:20150601
UID:327360-20150531@calenda.revues.org
SUMMARY:Terre(s) promise(s) : représentations et imaginaires
URL:https://calenda-formation.labocleo.org/327360
DESCRIPTION:Ce colloque interdisciplinaire consacré à la question de la ou des Terre(s) promise(s)\, organisé par le groupe de recherches ECMEA / CRILLASH (Écritures et cultures : études croisées des mondes européens et américains) de l’université des Antilles et… @plus_info https://calenda-formation.labocleo.org/327360
LOCATION:Saint-Claude
END:VEVENT
END:VCALENDAR
