BEGIN:VCALENDAR
VERSION:2.0
PRODID:-//https://calenda-formation.labocleo.org
X-WR-CALNAME:Calenda
X-WR-TIMEZONE:Europe/Paris
CALSCALE:GREGORIAN
X-WR-CALDESC:The calendar for arts, humanities and social sciences
METHOD:PUBLISH
BEGIN:VEVENT
DTSTART;VALUE=DATE:20150610
DTEND;VALUE=DATE:20150611
UID:327449-20150610@calenda.revues.org
SUMMARY:Rethinking social issues in Europe in light of the experiences of emerging countries ?
URL:https://calenda-formation.labocleo.org/327449
DESCRIPTION:The proposed conference aims to foster debate on the impact of globalisation on social issues\, based on findings from old industrialised nations as well as from the so-called “emerging nations”. Emerging nations are characterised by recent and rapid … @plus_info https://calenda-formation.labocleo.org/327449
LOCATION:Grenoble
END:VEVENT
BEGIN:VEVENT
DTSTART;VALUE=DATE:20150611
DTEND;VALUE=DATE:20150612
UID:327449-20150611@calenda.revues.org
SUMMARY:Rethinking social issues in Europe in light of the experiences of emerging countries ?
URL:https://calenda-formation.labocleo.org/327449
DESCRIPTION:The proposed conference aims to foster debate on the impact of globalisation on social issues\, based on findings from old industrialised nations as well as from the so-called “emerging nations”. Emerging nations are characterised by recent and rapid … @plus_info https://calenda-formation.labocleo.org/327449
LOCATION:Grenoble
END:VEVENT
BEGIN:VEVENT
DTSTART;VALUE=DATE:20150612
DTEND;VALUE=DATE:20150613
UID:327449-20150612@calenda.revues.org
SUMMARY:Rethinking social issues in Europe in light of the experiences of emerging countries ?
URL:https://calenda-formation.labocleo.org/327449
DESCRIPTION:The proposed conference aims to foster debate on the impact of globalisation on social issues\, based on findings from old industrialised nations as well as from the so-called “emerging nations”. Emerging nations are characterised by recent and rapid … @plus_info https://calenda-formation.labocleo.org/327449
LOCATION:Grenoble
END:VEVENT
END:VCALENDAR
