BEGIN:VCALENDAR
VERSION:2.0
PRODID:-//https://calenda-formation.labocleo.org
X-WR-CALNAME:Calenda
X-WR-TIMEZONE:Europe/Paris
CALSCALE:GREGORIAN
X-WR-CALDESC:The calendar for arts, humanities and social sciences
METHOD:PUBLISH
BEGIN:VEVENT
DTSTART;VALUE=DATE:20150529
DTEND;VALUE=DATE:20150530
UID:327702-20150529@calenda.revues.org
SUMMARY:Esthésies
URL:https://calenda-formation.labocleo.org/327702
DESCRIPTION:La peinture semble révéler\, avant toute chose\, l’expérience sensible du voir. Mais ne peut-elle pas\, aussi\, dans certains cas\, faire percevoir par l’œil quelque chose qui relèverait d’un autre ordre sensoriel ? Peut-on goûter\, sentir\, entendre\, touch… @plus_info https://calenda-formation.labocleo.org/327702
LOCATION:Rome
END:VEVENT
END:VCALENDAR
