BEGIN:VCALENDAR
VERSION:2.0
PRODID:-//https://calenda-formation.labocleo.org
X-WR-CALNAME:Calenda
X-WR-TIMEZONE:Europe/Paris
CALSCALE:GREGORIAN
X-WR-CALDESC:The calendar for arts, humanities and social sciences
METHOD:PUBLISH
BEGIN:VEVENT
DTSTART;VALUE=DATE:20150526
DTEND;VALUE=DATE:20150527
UID:328011-20150526@calenda.revues.org
SUMMARY:« Dollhouse » et « Firefly »
URL:https://calenda-formation.labocleo.org/328011
DESCRIPTION:Le colloque annuel « Philosopher avec les séries télévisées » avait jusqu’à présent principalement proposé de travailler selon un mode à la fois monographique et interdisciplinaire sur une série déterminée (24h chrono\, The West Wing\, Lost...). Si nou… @plus_info https://calenda-formation.labocleo.org/328011
LOCATION:Paris
END:VEVENT
END:VCALENDAR
