BEGIN:VCALENDAR
VERSION:2.0
PRODID:-//https://calenda-formation.labocleo.org
X-WR-CALNAME:Calenda
X-WR-TIMEZONE:Europe/Paris
CALSCALE:GREGORIAN
X-WR-CALDESC:The calendar for arts, humanities and social sciences
METHOD:PUBLISH
BEGIN:VEVENT
DTSTART;VALUE=DATE:20150520
DTEND;VALUE=DATE:20150521
UID:328241-20150520@calenda.revues.org
SUMMARY:Trouble in the field and ethnographic vigilance
URL:https://calenda-formation.labocleo.org/328241
DESCRIPTION:Comme le faisait remarquer Didier Fassin\, aujourd’hui l'expérience ethnographique ne va plus de soi\, pas plus que l'écriture anthropologique. C’est ainsi que l’auteur plaide pour l'exercice de l’« inquiétude ethnographique » (2008) tout comme Bob Whi… @plus_info https://calenda-formation.labocleo.org/328241
LOCATION:Paris
END:VEVENT
BEGIN:VEVENT
DTSTART;VALUE=DATE:20150521
DTEND;VALUE=DATE:20150522
UID:328241-20150521@calenda.revues.org
SUMMARY:Trouble in the field and ethnographic vigilance
URL:https://calenda-formation.labocleo.org/328241
DESCRIPTION:Comme le faisait remarquer Didier Fassin\, aujourd’hui l'expérience ethnographique ne va plus de soi\, pas plus que l'écriture anthropologique. C’est ainsi que l’auteur plaide pour l'exercice de l’« inquiétude ethnographique » (2008) tout comme Bob Whi… @plus_info https://calenda-formation.labocleo.org/328241
LOCATION:Paris
END:VEVENT
END:VCALENDAR
