BEGIN:VCALENDAR
VERSION:2.0
PRODID:-//https://calenda-formation.labocleo.org
X-WR-CALNAME:Calenda
X-WR-TIMEZONE:Europe/Paris
CALSCALE:GREGORIAN
X-WR-CALDESC:Le calendrier des lettres et sciences humaines et sociales
METHOD:PUBLISH
BEGIN:VEVENT
DTSTART;VALUE=DATE:20150621
DTEND;VALUE=DATE:20150622
UID:329194-20150621@calenda.revues.org
SUMMARY:Participating in innovation\, innovating in participation
URL:https://calenda-formation.labocleo.org/329194
DESCRIPTION:The call for new forms of participation has become common in the public sphere\, promising renewed forms of public engagement\, more efficient industrial processes\, and more democratic decision-making processes. Technological innovation is a particular… Weitere Informationen https://calenda-formation.labocleo.org/329194
LOCATION:Paris
END:VEVENT
END:VCALENDAR
