BEGIN:VCALENDAR
VERSION:2.0
PRODID:-//https://calenda-formation.labocleo.org
X-WR-CALNAME:Calenda
X-WR-TIMEZONE:Europe/Paris
CALSCALE:GREGORIAN
X-WR-CALDESC:Le calendrier des lettres et sciences humaines et sociales
METHOD:PUBLISH
BEGIN:VEVENT
DTSTART;VALUE=DATE:20150615
DTEND;VALUE=DATE:20150616
UID:329721-20150615@calenda.revues.org
SUMMARY:Comptes et comptables : une nouvelle approche de la culture de cour aux époques médiévale et moderne 
URL:https://calenda-formation.labocleo.org/329721
DESCRIPTION:Cet appel à contribution vise à susciter la réflexion des historiens médiévistes et modernistes autour du rôle des comptabilités et autres écrits pragmatiques\, depuis leur production jusqu'à leur utilisation\, dans la constitution et le fonctionnement… Weitere Informationen https://calenda-formation.labocleo.org/329721
LOCATION:
END:VEVENT
END:VCALENDAR
