BEGIN:VCALENDAR
VERSION:2.0
PRODID:-//https://calenda-formation.labocleo.org
X-WR-CALNAME:Calenda
X-WR-TIMEZONE:Europe/Paris
CALSCALE:GREGORIAN
X-WR-CALDESC:The calendar for arts, humanities and social sciences
METHOD:PUBLISH
BEGIN:VEVENT
DTSTART;VALUE=DATE:20150528
DTEND;VALUE=DATE:20150529
UID:329747-20150528@calenda.revues.org
SUMMARY:The End (s) of (In)Equality: France and the USA
URL:https://calenda-formation.labocleo.org/329747
DESCRIPTION:Alors que la France et les États-Unis sont souvent considérés comme des « républiques sœurs »\, la particularité de l’expérience historique de ces deux nations engendre des modèles\, apparemment opposés\, relativement à la liberté\, aux droits et devoirs… @plus_info https://calenda-formation.labocleo.org/329747
LOCATION:Paris
END:VEVENT
BEGIN:VEVENT
DTSTART;VALUE=DATE:20150529
DTEND;VALUE=DATE:20150530
UID:329747-20150529@calenda.revues.org
SUMMARY:The End (s) of (In)Equality: France and the USA
URL:https://calenda-formation.labocleo.org/329747
DESCRIPTION:Alors que la France et les États-Unis sont souvent considérés comme des « républiques sœurs »\, la particularité de l’expérience historique de ces deux nations engendre des modèles\, apparemment opposés\, relativement à la liberté\, aux droits et devoirs… @plus_info https://calenda-formation.labocleo.org/329747
LOCATION:Paris
END:VEVENT
END:VCALENDAR
