BEGIN:VCALENDAR
VERSION:2.0
PRODID:-//https://calenda-formation.labocleo.org
X-WR-CALNAME:Calenda
X-WR-TIMEZONE:Europe/Paris
CALSCALE:GREGORIAN
X-WR-CALDESC:Le calendrier des lettres et sciences humaines et sociales
METHOD:PUBLISH
BEGIN:VEVENT
DTSTART;VALUE=DATE:20150604
DTEND;VALUE=DATE:20150605
UID:330547-20150604@calenda.revues.org
SUMMARY:L'encyclique "Mit brennender Sorge" (14 mars 1937)
URL:https://calenda-formation.labocleo.org/330547
DESCRIPTION:La question des rapports entre l’Église catholique et le nazisme est bien souvent réduite à celle de l’attitude de Pie XII (1939-1958) devant le génocide des juifs\, elle-même ramenée à son silence devant leur extermination. Or la politique du Saint-S… Weitere Informationen https://calenda-formation.labocleo.org/330547
LOCATION:Brest
END:VEVENT
BEGIN:VEVENT
DTSTART;VALUE=DATE:20150606
DTEND;VALUE=DATE:20150607
UID:330547-20150606@calenda.revues.org
SUMMARY:L'encyclique "Mit brennender Sorge" (14 mars 1937)
URL:https://calenda-formation.labocleo.org/330547
DESCRIPTION:La question des rapports entre l’Église catholique et le nazisme est bien souvent réduite à celle de l’attitude de Pie XII (1939-1958) devant le génocide des juifs\, elle-même ramenée à son silence devant leur extermination. Or la politique du Saint-S… Weitere Informationen https://calenda-formation.labocleo.org/330547
LOCATION:Brest
END:VEVENT
BEGIN:VEVENT
DTSTART;VALUE=DATE:20150605
DTEND;VALUE=DATE:20150606
UID:330547-20150605@calenda.revues.org
SUMMARY:L'encyclique "Mit brennender Sorge" (14 mars 1937)
URL:https://calenda-formation.labocleo.org/330547
DESCRIPTION:La question des rapports entre l’Église catholique et le nazisme est bien souvent réduite à celle de l’attitude de Pie XII (1939-1958) devant le génocide des juifs\, elle-même ramenée à son silence devant leur extermination. Or la politique du Saint-S… Weitere Informationen https://calenda-formation.labocleo.org/330547
LOCATION:Brest
END:VEVENT
END:VCALENDAR
