BEGIN:VCALENDAR
VERSION:2.0
PRODID:-//https://calenda-formation.labocleo.org
X-WR-CALNAME:Calenda
X-WR-TIMEZONE:Europe/Paris
CALSCALE:GREGORIAN
X-WR-CALDESC:Le calendrier des lettres et sciences humaines et sociales
METHOD:PUBLISH
BEGIN:VEVENT
DTSTART;VALUE=DATE:20150628
DTEND;VALUE=DATE:20150629
UID:330587-20150628@calenda.revues.org
SUMMARY: Devenir chercheur en sciences humaines et sociales : entre contraintes et autonomie
URL:https://calenda-formation.labocleo.org/330587
DESCRIPTION:Prolongando las conclusiones del último coloquio EchFrancia 2014\, sobre las realidades y las perspectivas de los jóvenes investigadores en ciencias humanas y sociales esperamos continuar este diálogo en torno a las experiencias\, las expectativas\, los… Más informaciones https://calenda-formation.labocleo.org/330587
LOCATION:
END:VEVENT
END:VCALENDAR
