BEGIN:VCALENDAR
VERSION:2.0
PRODID:-//https://calenda-formation.labocleo.org
X-WR-CALNAME:Calenda
X-WR-TIMEZONE:Europe/Paris
CALSCALE:GREGORIAN
X-WR-CALDESC:The calendar for arts, humanities and social sciences
METHOD:PUBLISH
BEGIN:VEVENT
DTSTART;VALUE=DATE:20150601
DTEND;VALUE=DATE:20150602
UID:330624-20150601@calenda.revues.org
SUMMARY:Journée doctorale de l'Institut de recherche philosophique (Ireph) 2015 
URL:https://calenda-formation.labocleo.org/330624
DESCRIPTION:La journée doctorale 2015 de l'Ireph donnera la parole à 11 doctorants du laboratoire. Ils présenteront leurs recherches et discuteront de leurs avancées et objectifs avec l'ensemble des membres (enseignants\, doctorants et chercheurs associés). Cette… @plus_info https://calenda-formation.labocleo.org/330624
LOCATION:Nanterre
END:VEVENT
END:VCALENDAR
