BEGIN:VCALENDAR
VERSION:2.0
PRODID:-//https://calenda-formation.labocleo.org
X-WR-CALNAME:Calenda
X-WR-TIMEZONE:Europe/Paris
CALSCALE:GREGORIAN
X-WR-CALDESC:The calendar for arts, humanities and social sciences
METHOD:PUBLISH
BEGIN:VEVENT
DTSTART;VALUE=DATE:20151031
DTEND;VALUE=DATE:20151101
UID:330715-20151031@calenda.revues.org
SUMMARY:Memories of Trajan\, memoirs of Hadrian
URL:https://calenda-formation.labocleo.org/330715
DESCRIPTION:The year 2017 will see the nineteen-hundredth anniversary of the death of Emperor Trajan and the accession of his kinsman Hadrian. Ancient and modern cultural productions have often thought about those two emperors together. We will study the memorie… @plus_info https://calenda-formation.labocleo.org/330715
LOCATION:Lille
END:VEVENT
END:VCALENDAR
