BEGIN:VCALENDAR
VERSION:2.0
PRODID:-//https://calenda-formation.labocleo.org
X-WR-CALNAME:Calenda
X-WR-TIMEZONE:Europe/Paris
CALSCALE:GREGORIAN
X-WR-CALDESC:Le calendrier des lettres et sciences humaines et sociales
METHOD:PUBLISH
BEGIN:VEVENT
DTSTART;VALUE=DATE:20151014
DTEND;VALUE=DATE:20151015
UID:330956-20151014@calenda.revues.org
SUMMARY:Mobilité de demain et villes moyennes
URL:https://calenda-formation.labocleo.org/330956
DESCRIPTION:Le workshop « Mobilité de demain et villes moyennes » vise à interroger les formes de gouvernance mises en œuvre sur des territoires dont la ville centre est une ville moyenne\, et à identifier la (les) conception(s) de la mobilité qui y sont liées. … @plus_info https://calenda-formation.labocleo.org/330956
LOCATION:Belfort
END:VEVENT
END:VCALENDAR
