BEGIN:VCALENDAR
VERSION:2.0
PRODID:-//https://calenda-formation.labocleo.org
X-WR-CALNAME:Calenda
X-WR-TIMEZONE:Europe/Paris
CALSCALE:GREGORIAN
X-WR-CALDESC:Le calendrier des lettres et sciences humaines et sociales
METHOD:PUBLISH
BEGIN:VEVENT
DTSTART;VALUE=DATE:20150930
DTEND;VALUE=DATE:20151001
UID:331240-20150930@calenda.revues.org
SUMMARY:Socialismes africains / socialismes en Afrique
URL:https://calenda-formation.labocleo.org/331240
DESCRIPTION:Les histoires du\, des socialismes\, qu'ils soient ou non « réels » oublient systématiquement l'Afrique. Or il a existé en Afrique de très nombreux régimes qui se sont réclamés du socialisme « africain » ou « scientifique » de même que de très nombreux… @plus_info https://calenda-formation.labocleo.org/331240
LOCATION:Paris
END:VEVENT
END:VCALENDAR
