BEGIN:VCALENDAR
VERSION:2.0
PRODID:-//https://calenda-formation.labocleo.org
X-WR-CALNAME:Calenda
X-WR-TIMEZONE:Europe/Paris
CALSCALE:GREGORIAN
X-WR-CALDESC:Le calendrier des lettres et sciences humaines et sociales
METHOD:PUBLISH
BEGIN:VEVENT
DTSTART;VALUE=DATE:20150702
DTEND;VALUE=DATE:20150703
UID:331554-20150702@calenda.revues.org
SUMMARY:Interroger les sociétés contemporaines à la lumière du handicap
URL:https://calenda-formation.labocleo.org/331554
DESCRIPTION:La conférence est organisée dans le cadre de la rencontre annuelle de la société Alter (European Society for Disability Research / Société européenne de recherche sur le handicap). Son objectif est d'offrir un panorama pluridisciplinaire\, européen et… @plus_info https://calenda-formation.labocleo.org/331554
LOCATION:Paris
END:VEVENT
BEGIN:VEVENT
DTSTART;VALUE=DATE:20150703
DTEND;VALUE=DATE:20150704
UID:331554-20150703@calenda.revues.org
SUMMARY:Interroger les sociétés contemporaines à la lumière du handicap
URL:https://calenda-formation.labocleo.org/331554
DESCRIPTION:La conférence est organisée dans le cadre de la rencontre annuelle de la société Alter (European Society for Disability Research / Société européenne de recherche sur le handicap). Son objectif est d'offrir un panorama pluridisciplinaire\, européen et… @plus_info https://calenda-formation.labocleo.org/331554
LOCATION:Paris
END:VEVENT
END:VCALENDAR
