BEGIN:VCALENDAR
VERSION:2.0
PRODID:-//https://calenda-formation.labocleo.org
X-WR-CALNAME:Calenda
X-WR-TIMEZONE:Europe/Paris
CALSCALE:GREGORIAN
X-WR-CALDESC:Le calendrier des lettres et sciences humaines et sociales
METHOD:PUBLISH
BEGIN:VEVENT
DTSTART;VALUE=DATE:20150719
DTEND;VALUE=DATE:20150720
UID:331646-20150719@calenda.revues.org
SUMMARY:Une bourse post-doctorale et deux bourses de doctorat sur « identité et bureaucratisation en Afrique subsaharienne »
URL:https://calenda-formation.labocleo.org/331646
DESCRIPTION:L’IHA a monté un partenariat scientifique et académique avec le Centre de recherche et d’études sur les politiques sociales (CREPOS) de l’université Cheikh Anta Diop (Dakar\, Sénégal). L’IHA et le CREPOS lancent en octobre 2015 un groupe de recherche … @plus_info https://calenda-formation.labocleo.org/331646
LOCATION:Dakar
END:VEVENT
END:VCALENDAR
