BEGIN:VCALENDAR
VERSION:2.0
PRODID:-//https://calenda-formation.labocleo.org
X-WR-CALNAME:Calenda
X-WR-TIMEZONE:Europe/Paris
CALSCALE:GREGORIAN
X-WR-CALDESC:The calendar for arts, humanities and social sciences
METHOD:PUBLISH
BEGIN:VEVENT
DTSTART;VALUE=DATE:20151015
DTEND;VALUE=DATE:20151016
UID:331725-20151015@calenda.revues.org
SUMMARY:The historiography of the Norman worlds (17th-21st centuries)
URL:https://calenda-formation.labocleo.org/331725
DESCRIPTION:This colloquium aims to examine the "historiographical models" used to study the Norman worlds of the Middle Ages. This is understood to mean the interpretative frameworks of the past that have had a lasting impact on our reading and understanding of… @plus_info https://calenda-formation.labocleo.org/331725
LOCATION:Ariano Irpino
END:VEVENT
END:VCALENDAR
