BEGIN:VCALENDAR
VERSION:2.0
PRODID:-//https://calenda-formation.labocleo.org
X-WR-CALNAME:Calenda
X-WR-TIMEZONE:Europe/Paris
CALSCALE:GREGORIAN
X-WR-CALDESC:Le calendrier des lettres et sciences humaines et sociales
METHOD:PUBLISH
BEGIN:VEVENT
DTSTART;VALUE=DATE:20150618
DTEND;VALUE=DATE:20150619
UID:331975-20150618@calenda.revues.org
SUMMARY:Eléments de preuve et litiges commerciaux en Méditerranée (XVe-XIXe siècles)
URL:https://calenda-formation.labocleo.org/331975
DESCRIPTION:Que nous apprennent les artéfacts probatoires produits pour régler les litiges commerciaux au sujet de la configuration juridique de la Méditerranée entre les XVe et XIXe siècles ? Depuis 2012\, le programme européen ConfigMed s’attache à étudier les … Más informaciones https://calenda-formation.labocleo.org/331975
LOCATION:París
END:VEVENT
BEGIN:VEVENT
DTSTART;VALUE=DATE:20150620
DTEND;VALUE=DATE:20150621
UID:331975-20150620@calenda.revues.org
SUMMARY:Eléments de preuve et litiges commerciaux en Méditerranée (XVe-XIXe siècles)
URL:https://calenda-formation.labocleo.org/331975
DESCRIPTION:Que nous apprennent les artéfacts probatoires produits pour régler les litiges commerciaux au sujet de la configuration juridique de la Méditerranée entre les XVe et XIXe siècles ? Depuis 2012\, le programme européen ConfigMed s’attache à étudier les … Más informaciones https://calenda-formation.labocleo.org/331975
LOCATION:París
END:VEVENT
END:VCALENDAR
