BEGIN:VCALENDAR
VERSION:2.0
PRODID:-//https://calenda-formation.labocleo.org
X-WR-CALNAME:Calenda
X-WR-TIMEZONE:Europe/Paris
CALSCALE:GREGORIAN
X-WR-CALDESC:The calendar for arts, humanities and social sciences
METHOD:PUBLISH
BEGIN:VEVENT
DTSTART;VALUE=DATE:20150706
DTEND;VALUE=DATE:20150707
UID:332226-20150706@calenda.revues.org
SUMMARY:Starting Grant: Library and Information Science / Digital Humanities
URL:https://calenda-formation.labocleo.org/332226
DESCRIPTION:The CIDEHUS (Interdisciplinary Center of History\, Cultures and Societies of University of Évora) is opening the call for 1 research fellowship (starting Grant\, “Bolsa de Cientista Convidado”) in the field of Library and Information Science / Digital … @plus_info https://calenda-formation.labocleo.org/332226
LOCATION:Evora
END:VEVENT
END:VCALENDAR
