BEGIN:VCALENDAR
VERSION:2.0
PRODID:-//https://calenda-formation.labocleo.org
X-WR-CALNAME:Calenda
X-WR-TIMEZONE:Europe/Paris
CALSCALE:GREGORIAN
X-WR-CALDESC:Le calendrier des lettres et sciences humaines et sociales
METHOD:PUBLISH
BEGIN:VEVENT
DTSTART;VALUE=DATE:20150730
DTEND;VALUE=DATE:20150731
UID:332438-20150730@calenda.revues.org
SUMMARY:Médiations informatisées de l’autorité : nouvelles écritures\, nouvelles pratiques de la reconnaissance ?
URL:https://calenda-formation.labocleo.org/332438
DESCRIPTION:On propose de travailler\, dans le cadre de ce colloque\, sur les médiations de l’autorité dans le cadre des mutations médiatiques engagées par le numérique : comment la « présence » dans l’espace médiatique numérique impacte-t-elle l’autorité ? Quelle… Weitere Informationen https://calenda-formation.labocleo.org/332438
LOCATION:Paris
END:VEVENT
END:VCALENDAR
