BEGIN:VCALENDAR
VERSION:2.0
PRODID:-//https://calenda-formation.labocleo.org
X-WR-CALNAME:Calenda
X-WR-TIMEZONE:Europe/Paris
CALSCALE:GREGORIAN
X-WR-CALDESC:The calendar for arts, humanities and social sciences
METHOD:PUBLISH
BEGIN:VEVENT
DTSTART;VALUE=DATE:20150905
DTEND;VALUE=DATE:20150906
UID:332731-20150905@calenda.revues.org
SUMMARY:Urban worlds in China
URL:https://calenda-formation.labocleo.org/332731
DESCRIPTION:En janvier 2016\, la revue Urbanités a décidé de continuer la réflexion sur les mondes urbains chinois\, entamée en 2013 avec sa série d’entretiens et d’articles sur la Chine urbaine. Des propositions d’articles\, de compte-rendus de lecture ou de portf… @plus_info https://calenda-formation.labocleo.org/332731
LOCATION:
END:VEVENT
END:VCALENDAR
