BEGIN:VCALENDAR
VERSION:2.0
PRODID:-//https://calenda-formation.labocleo.org
X-WR-CALNAME:Calenda
X-WR-TIMEZONE:Europe/Paris
CALSCALE:GREGORIAN
X-WR-CALDESC:Le calendrier des lettres et sciences humaines et sociales
METHOD:PUBLISH
BEGIN:VEVENT
DTSTART;VALUE=DATE:20150624
DTEND;VALUE=DATE:20150625
UID:333045-20150624@calenda.revues.org
SUMMARY:Alcool et ivresse en Amérique
URL:https://calenda-formation.labocleo.org/333045
DESCRIPTION:La fabrication et la consommation de boissons alcoolisées articulent une multiplicité de relations sociales\, culturelles et économiques. Sur le continent américain\, le contact avec les Européens a apporté non seulement de nouveaux fruits fermentables… Weitere Informationen https://calenda-formation.labocleo.org/333045
LOCATION:Paris
END:VEVENT
END:VCALENDAR
