BEGIN:VCALENDAR
VERSION:2.0
PRODID:-//https://calenda-formation.labocleo.org
X-WR-CALNAME:Calenda
X-WR-TIMEZONE:Europe/Paris
CALSCALE:GREGORIAN
X-WR-CALDESC:Le calendrier des lettres et sciences humaines et sociales
METHOD:PUBLISH
BEGIN:VEVENT
DTSTART;VALUE=DATE:20150915
DTEND;VALUE=DATE:20150916
UID:333159-20150915@calenda.revues.org
SUMMARY:Les genres du roman au XIXe siècle
URL:https://calenda-formation.labocleo.org/333159
DESCRIPTION:Le colloque s'attachera à l'étude de la partition du domaine romanesque\, au XIXe siècle\, en de multiples sous-genres : roman sentimental\, roman d'aventures\, roman de moeurs\, etc. Il s'agira\, en se situant du côté de l'auteur comme de celui du lecteur… Más informaciones https://calenda-formation.labocleo.org/333159
LOCATION:Villetaneuse
END:VEVENT
END:VCALENDAR
