BEGIN:VCALENDAR
VERSION:2.0
PRODID:-//https://calenda-formation.labocleo.org
X-WR-CALNAME:Calenda
X-WR-TIMEZONE:Europe/Paris
CALSCALE:GREGORIAN
X-WR-CALDESC:The calendar for arts, humanities and social sciences
METHOD:PUBLISH
BEGIN:VEVENT
DTSTART;VALUE=DATE:20150630
DTEND;VALUE=DATE:20150701
UID:333178-20150630@calenda.revues.org
SUMMARY:François Ier\, king of war and peace - LVIII international conference of humanist studies
URL:https://calenda-formation.labocleo.org/333178
DESCRIPTION:L’année 2015 sera l’occasion de célébrer en France et particulièrement à Tours le 500e anniversaire de l’avènement de François Ier (1515-2015). L’objet de ce colloque\, organisé par Pascal Brioist et Benoist Pierre (professeurs des universités) est d’… @plus_info https://calenda-formation.labocleo.org/333178
LOCATION:Tours\, Chambord
END:VEVENT
BEGIN:VEVENT
DTSTART;VALUE=DATE:20150701
DTEND;VALUE=DATE:20150702
UID:333178-20150701@calenda.revues.org
SUMMARY:François Ier\, king of war and peace - LVIII international conference of humanist studies
URL:https://calenda-formation.labocleo.org/333178
DESCRIPTION:L’année 2015 sera l’occasion de célébrer en France et particulièrement à Tours le 500e anniversaire de l’avènement de François Ier (1515-2015). L’objet de ce colloque\, organisé par Pascal Brioist et Benoist Pierre (professeurs des universités) est d’… @plus_info https://calenda-formation.labocleo.org/333178
LOCATION:Tours\, Chambord
END:VEVENT
BEGIN:VEVENT
DTSTART;VALUE=DATE:20150702
DTEND;VALUE=DATE:20150703
UID:333178-20150702@calenda.revues.org
SUMMARY:François Ier\, king of war and peace - LVIII international conference of humanist studies
URL:https://calenda-formation.labocleo.org/333178
DESCRIPTION:L’année 2015 sera l’occasion de célébrer en France et particulièrement à Tours le 500e anniversaire de l’avènement de François Ier (1515-2015). L’objet de ce colloque\, organisé par Pascal Brioist et Benoist Pierre (professeurs des universités) est d’… @plus_info https://calenda-formation.labocleo.org/333178
LOCATION:Tours\, Chambord
END:VEVENT
BEGIN:VEVENT
DTSTART;VALUE=DATE:20150703
DTEND;VALUE=DATE:20150704
UID:333178-20150703@calenda.revues.org
SUMMARY:François Ier\, king of war and peace - LVIII international conference of humanist studies
URL:https://calenda-formation.labocleo.org/333178
DESCRIPTION:L’année 2015 sera l’occasion de célébrer en France et particulièrement à Tours le 500e anniversaire de l’avènement de François Ier (1515-2015). L’objet de ce colloque\, organisé par Pascal Brioist et Benoist Pierre (professeurs des universités) est d’… @plus_info https://calenda-formation.labocleo.org/333178
LOCATION:Tours\, Chambord
END:VEVENT
END:VCALENDAR
