BEGIN:VCALENDAR
VERSION:2.0
PRODID:-//https://calenda-formation.labocleo.org
X-WR-CALNAME:Calenda
X-WR-TIMEZONE:Europe/Paris
CALSCALE:GREGORIAN
X-WR-CALDESC:Le calendrier des lettres et sciences humaines et sociales
METHOD:PUBLISH
BEGIN:VEVENT
DTSTART;VALUE=DATE:20151101
DTEND;VALUE=DATE:20151102
UID:333692-20151101@calenda.revues.org
SUMMARY:Border Regions in Transition (BRIT) 2016
URL:https://calenda-formation.labocleo.org/333692
DESCRIPTION:The objective of the 15th Border Regions in Transition (BRIT) Conference organized by the University of Southern Denmark\, the University of Hamburg and the HafenCity University Hamburg on May 17-20 2016 is to rethink the complicated relationships tha… Weitere Informationen https://calenda-formation.labocleo.org/333692
LOCATION:Hamburg\, Sonderburg
END:VEVENT
END:VCALENDAR
