BEGIN:VCALENDAR
VERSION:2.0
PRODID:-//https://calenda-formation.labocleo.org
X-WR-CALNAME:Calenda
X-WR-TIMEZONE:Europe/Paris
CALSCALE:GREGORIAN
X-WR-CALDESC:Le calendrier des lettres et sciences humaines et sociales
METHOD:PUBLISH
BEGIN:VEVENT
DTSTART;VALUE=DATE:20151015
DTEND;VALUE=DATE:20151016
UID:333777-20151015@calenda.revues.org
SUMMARY:La ville et ses personnages illustres de l’Antiquité au XXIe siècle
URL:https://calenda-formation.labocleo.org/333777
DESCRIPTION:Les hommes et femmes illustres sont au centre de la fièvre commémorative qui s’est emparée des acteurs de la vie publique. Ils sont dans le même temps objets de réflexions historiographiques\, qui s’attachent à montrer la construction historique de fi… Weitere Informationen https://calenda-formation.labocleo.org/333777
LOCATION:Straßburg
END:VEVENT
END:VCALENDAR
