BEGIN:VCALENDAR
VERSION:2.0
PRODID:-//https://calenda-formation.labocleo.org
X-WR-CALNAME:Calenda
X-WR-TIMEZONE:Europe/Paris
CALSCALE:GREGORIAN
X-WR-CALDESC:The calendar for arts, humanities and social sciences
METHOD:PUBLISH
BEGIN:VEVENT
DTSTART;VALUE=DATE:20150923
DTEND;VALUE=DATE:20150924
UID:335001-20150923@calenda.revues.org
SUMMARY:The nature of towns\, the nature of fields\, synergies and controversy
URL:https://calenda-formation.labocleo.org/335001
DESCRIPTION:La nature occupe aujourd’hui une place prépondérante dans les projets de territoire. Le colloque entend interroger la réactualisation des liens ville-nature-campagne. Au-delà cependant de la seule interface\, il s’agit aussi de repenser la nature en v… @plus_info https://calenda-formation.labocleo.org/335001
LOCATION:Valenciennes
END:VEVENT
BEGIN:VEVENT
DTSTART;VALUE=DATE:20150924
DTEND;VALUE=DATE:20150925
UID:335001-20150924@calenda.revues.org
SUMMARY:The nature of towns\, the nature of fields\, synergies and controversy
URL:https://calenda-formation.labocleo.org/335001
DESCRIPTION:La nature occupe aujourd’hui une place prépondérante dans les projets de territoire. Le colloque entend interroger la réactualisation des liens ville-nature-campagne. Au-delà cependant de la seule interface\, il s’agit aussi de repenser la nature en v… @plus_info https://calenda-formation.labocleo.org/335001
LOCATION:Valenciennes
END:VEVENT
BEGIN:VEVENT
DTSTART;VALUE=DATE:20150925
DTEND;VALUE=DATE:20150926
UID:335001-20150925@calenda.revues.org
SUMMARY:The nature of towns\, the nature of fields\, synergies and controversy
URL:https://calenda-formation.labocleo.org/335001
DESCRIPTION:La nature occupe aujourd’hui une place prépondérante dans les projets de territoire. Le colloque entend interroger la réactualisation des liens ville-nature-campagne. Au-delà cependant de la seule interface\, il s’agit aussi de repenser la nature en v… @plus_info https://calenda-formation.labocleo.org/335001
LOCATION:Valenciennes
END:VEVENT
END:VCALENDAR
