BEGIN:VCALENDAR
VERSION:2.0
PRODID:-//https://calenda-formation.labocleo.org
X-WR-CALNAME:Calenda
X-WR-TIMEZONE:Europe/Paris
CALSCALE:GREGORIAN
X-WR-CALDESC:Le calendrier des lettres et sciences humaines et sociales
METHOD:PUBLISH
BEGIN:VEVENT
DTSTART;VALUE=DATE:20151106
DTEND;VALUE=DATE:20151107
UID:335146-20151106@calenda.revues.org
SUMMARY:L’Allemagne et son image dans les expositions universelles
URL:https://calenda-formation.labocleo.org/335146
DESCRIPTION:Dès leur création à Londres en 1851\, les expositions universelles se font la vitrine d’une industrie en plein essor\, source de rêve et d’une ouverture du champ des possibles jusqu’à l’infini\, une fonction qu’elles conservèrent jusqu’à l’apothéose de … @plus_info https://calenda-formation.labocleo.org/335146
LOCATION:
END:VEVENT
END:VCALENDAR
