BEGIN:VCALENDAR
VERSION:2.0
PRODID:-//https://calenda-formation.labocleo.org
X-WR-CALNAME:Calenda
X-WR-TIMEZONE:Europe/Paris
CALSCALE:GREGORIAN
X-WR-CALDESC:The calendar for arts, humanities and social sciences
METHOD:PUBLISH
BEGIN:VEVENT
DTSTART;VALUE=DATE:20151102
DTEND;VALUE=DATE:20151103
UID:335168-20151102@calenda.revues.org
SUMMARY:Observing for training
URL:https://calenda-formation.labocleo.org/335168
DESCRIPTION:Ce colloque porte sur « Observer pour former »\, une thématique de recherche qui pose de multiples questions d'ordre épistémologique\, théorique et méthodologique et qui est source de nombreuses controverses au niveau international. Elle se trouve auss… @plus_info https://calenda-formation.labocleo.org/335168
LOCATION:Nantes
END:VEVENT
END:VCALENDAR
