BEGIN:VCALENDAR
VERSION:2.0
PRODID:-//https://calenda-formation.labocleo.org
X-WR-CALNAME:Calenda
X-WR-TIMEZONE:Europe/Paris
CALSCALE:GREGORIAN
X-WR-CALDESC:The calendar for arts, humanities and social sciences
METHOD:PUBLISH
BEGIN:VEVENT
DTSTART;VALUE=DATE:20151101
DTEND;VALUE=DATE:20151102
UID:335473-20151101@calenda.revues.org
SUMMARY:Research Residential Program at Princeton Institute for International and Regional Studies
URL:https://calenda-formation.labocleo.org/335473
DESCRIPTION:Princeton University is pleased to announce the call for applications to the Fung Global Fellows Program at the Princeton Institute for International and Regional Studies (PIIRS).  Each year the program selects six scholars from around the world to b… @plus_info https://calenda-formation.labocleo.org/335473
LOCATION:Princeton
END:VEVENT
END:VCALENDAR
