BEGIN:VCALENDAR
VERSION:2.0
PRODID:-//https://calenda-formation.labocleo.org
X-WR-CALNAME:Calenda
X-WR-TIMEZONE:Europe/Paris
CALSCALE:GREGORIAN
X-WR-CALDESC:The calendar for arts, humanities and social sciences
METHOD:PUBLISH
BEGIN:VEVENT
DTSTART;VALUE=DATE:20150925
DTEND;VALUE=DATE:20150926
UID:335620-20150925@calenda.revues.org
SUMMARY:Reading and writing
URL:https://calenda-formation.labocleo.org/335620
DESCRIPTION:Le 25 septembre\, à l’Institut français de l’éducation / École normale supérieure de Lyon\, les chercheurs engagés dans l’étude « Lire\, écrire CP » exposeront leurs premiers résultats. Pour aller au-delà de la question des méthodes de lecture\, ils décr… @plus_info https://calenda-formation.labocleo.org/335620
LOCATION:Lyon
END:VEVENT
END:VCALENDAR
