BEGIN:VCALENDAR
VERSION:2.0
PRODID:-//https://calenda-formation.labocleo.org
X-WR-CALNAME:Calenda
X-WR-TIMEZONE:Europe/Paris
CALSCALE:GREGORIAN
X-WR-CALDESC:Le calendrier des lettres et sciences humaines et sociales
METHOD:PUBLISH
BEGIN:VEVENT
DTSTART;VALUE=DATE:20150821
DTEND;VALUE=DATE:20150822
UID:335707-20150821@calenda.revues.org
SUMMARY:Contrat post-doctoral « Le congrès\, macro-dispositif de formation : approche intermédiale et démarche évaluative »
URL:https://calenda-formation.labocleo.org/335707
DESCRIPTION:Depuis plusieurs années\, le laboratoire LLA-CREATIS mène une réflexion autour de la notion d’intermédialité. En s’intéressant non seulement aux médias mais aussi aux rapports qu’ils entretiennent\, l’intermédialité pourra être un outil intéressant pou… Weitere Informationen https://calenda-formation.labocleo.org/335707
LOCATION:Toulouse
END:VEVENT
END:VCALENDAR
