BEGIN:VCALENDAR
VERSION:2.0
PRODID:-//https://calenda-formation.labocleo.org
X-WR-CALNAME:Calenda
X-WR-TIMEZONE:Europe/Paris
CALSCALE:GREGORIAN
X-WR-CALDESC:Le calendrier des lettres et sciences humaines et sociales
METHOD:PUBLISH
BEGIN:VEVENT
DTSTART;VALUE=DATE:20150930
DTEND;VALUE=DATE:20151001
UID:336219-20150930@calenda.revues.org
SUMMARY:The Families We (Do Not) Want
URL:https://calenda-formation.labocleo.org/336219
DESCRIPTION:At the beginning of the 20th century\, The Elementary Forms of the Religious Life (Durkheim\, 1912) paved the way for sociology to explore\, conceptualize and understand the power of rituals in our lives. Since then\, rituals ceased to be envisaged in th… Weitere Informationen https://calenda-formation.labocleo.org/336219
LOCATION:Wien
END:VEVENT
END:VCALENDAR
