BEGIN:VCALENDAR
VERSION:2.0
PRODID:-//https://calenda-formation.labocleo.org
X-WR-CALNAME:Calenda
X-WR-TIMEZONE:Europe/Paris
CALSCALE:GREGORIAN
X-WR-CALDESC:Le calendrier des lettres et sciences humaines et sociales
METHOD:PUBLISH
BEGIN:VEVENT
DTSTART;VALUE=DATE:20151031
DTEND;VALUE=DATE:20151101
UID:336223-20151031@calenda.revues.org
SUMMARY:Europe\, pharmacy\, medicines
URL:https://calenda-formation.labocleo.org/336223
DESCRIPTION:Debater a Europa is a journal with peer-reviewed research studies and pending indexation. The journal is affiliated to the Centro de Informação Europe Direct in Aveiro (Aveiro Europe Direct Information Center) and to the Centro de Estudos Interdiscip… Más informaciones https://calenda-formation.labocleo.org/336223
LOCATION:Coímbra
END:VEVENT
END:VCALENDAR
