BEGIN:VCALENDAR
VERSION:2.0
PRODID:-//https://calenda-formation.labocleo.org
X-WR-CALNAME:Calenda
X-WR-TIMEZONE:Europe/Paris
CALSCALE:GREGORIAN
X-WR-CALDESC:Le calendrier des lettres et sciences humaines et sociales
METHOD:PUBLISH
BEGIN:VEVENT
DTSTART;VALUE=DATE:20151004
DTEND;VALUE=DATE:20151005
UID:336679-20151004@calenda.revues.org
SUMMARY:La formation de la personne humaine à la lumière de la pensée d'Edith Stein\, co-patrone de l'Europe
URL:https://calenda-formation.labocleo.org/336679
DESCRIPTION:La formation de la personne représente un enjeu central de civilisation puisqu'elle engage le devenir même de l'être humain\, de l'humanité. À une époque ou les totalitarismes déchirent l'Europe\, Édith Stein réfléchit cette thématique sous différent… Weitere Informationen https://calenda-formation.labocleo.org/336679
LOCATION:Paris
END:VEVENT
END:VCALENDAR
