BEGIN:VCALENDAR
VERSION:2.0
PRODID:-//https://calenda-formation.labocleo.org
X-WR-CALNAME:Calenda
X-WR-TIMEZONE:Europe/Paris
CALSCALE:GREGORIAN
X-WR-CALDESC:Le calendrier des lettres et sciences humaines et sociales
METHOD:PUBLISH
BEGIN:VEVENT
DTSTART;VALUE=DATE:20151001
DTEND;VALUE=DATE:20151002
UID:336705-20151001@calenda.revues.org
SUMMARY:Vivant en ville\, nouvelles émergences
URL:https://calenda-formation.labocleo.org/336705
DESCRIPTION:Une question centrale se pose\, qu’est-ce que le vivant en ville ? A quoi cela fait-il référence ? Il ressort de la thèse de Laurène Wiezstort sur la représentation de la nature\, que « ce terme est plutôt une représentation du besoin de nature\, plus o… @plus_info https://calenda-formation.labocleo.org/336705
LOCATION:Lyon
END:VEVENT
END:VCALENDAR
