BEGIN:VCALENDAR
VERSION:2.0
PRODID:-//https://calenda-formation.labocleo.org
X-WR-CALNAME:Calenda
X-WR-TIMEZONE:Europe/Paris
CALSCALE:GREGORIAN
X-WR-CALDESC:Le calendrier des lettres et sciences humaines et sociales
METHOD:PUBLISH
BEGIN:VEVENT
DTSTART;VALUE=DATE:20151005
DTEND;VALUE=DATE:20151006
UID:336960-20151005@calenda.revues.org
SUMMARY:Borders\, walls and violence
URL:https://calenda-formation.labocleo.org/336960
DESCRIPTION:More border walls and border fences are being built every year all across the world. Bulgaria\, Greece\, Turkey\, Morocco\, and Tunisia are among the latest to announce yet another border fence. Twenty-five years ago it was believed that the fall of the … Weitere Informationen https://calenda-formation.labocleo.org/336960
LOCATION:Montreal
END:VEVENT
END:VCALENDAR
