BEGIN:VCALENDAR
VERSION:2.0
PRODID:-//https://calenda-formation.labocleo.org
X-WR-CALNAME:Calenda
X-WR-TIMEZONE:Europe/Paris
CALSCALE:GREGORIAN
X-WR-CALDESC:The calendar for arts, humanities and social sciences
METHOD:PUBLISH
BEGIN:VEVENT
DTSTART;VALUE=DATE:20151016
DTEND;VALUE=DATE:20151017
UID:337108-20151016@calenda.revues.org
SUMMARY:Data and historical sciences
URL:https://calenda-formation.labocleo.org/337108
DESCRIPTION:Le 16 octobre 2015 aura lieu à Berne le colloque infoclio.ch 2015 sur le thème : « Données et sciences historiques ». Ce colloque est le septième de la série « Médias et sciences historiques ». Que sont les « données » au juste ? Comment sont-elles o… @plus_info https://calenda-formation.labocleo.org/337108
LOCATION:Berne
END:VEVENT
END:VCALENDAR
